BEGIN:VCALENDAR
VERSION:2.0
PRODID:-//ISCOPE//iscope.de//DE
CALSCALE:GREGORIAN
BEGIN:VEVENT
DTSTART:20270130T100000
DTEND:20270131T160000
LOCATION:STADTHALLE BIELEFELD
Willy-Brandt-Platz 1
D-33602 Bielefeld
DTSTAMP:20260420T145547Z
SUMMARY:4. beruf & bildung bielefeld
DESCRIPTION:
Öffnungszeiten:

UID:f12d37e78aa56603fa02fadda97b88ef6bca0bd4
END:VEVENT
END:VCALENDAR