BEGIN:VCALENDAR
VERSION:2.0
PRODID:-//ISCOPE//iscope.de//DE
CALSCALE:GREGORIAN
BEGIN:VEVENT
DTSTART:20270227T100000
DTEND:20270228T160000
LOCATION:Messehalle Volkswagen Osnabrück (Halle 23)
Ackerstraße 53
49084 Osnabrück
DTSTAMP:20260420T093354Z
SUMMARY:5. beruf & bildung osnabrück
DESCRIPTION:
Öffnungszeiten:

UID:e5da9704e0737bec034b6e4a3f2c2b24d5aadc0b
END:VEVENT
END:VCALENDAR